BEGIN:VCALENDAR
VERSION:2.0
PRODID:-//112.109.81.141//NONSGML kigkonsult.se iCalcreator 2.20//
CALSCALE:GREGORIAN
METHOD:PUBLISH
X-WR-CALNAME:Waikato JP Association
X-WR-CALDESC:Home
X-FROM-URL:http://jpwaikato.org.nz
X-WR-TIMEZONE:Pacific/Auckland
BEGIN:VTIMEZONE
TZID:Pacific/Auckland
X-LIC-LOCATION:Pacific/Auckland
BEGIN:STANDARD
DTSTART:20180401T030000
TZOFFSETFROM:+1300
TZOFFSETTO:+1200
TZNAME:NZST
END:STANDARD
BEGIN:DAYLIGHT
DTSTART:20170924T020000
TZOFFSETFROM:+1200
TZOFFSETTO:+1300
TZNAME:NZDT
END:DAYLIGHT
END:VTIMEZONE
BEGIN:VEVENT
UID:ai1ec-977@jpwaikato.org.nz
DTSTAMP:20180122T092612Z
CATEGORIES:
CONTACT:
DESCRIPTION:
DTSTART;TZID=Pacific/Auckland:20171106T170000
DTEND;TZID=Pacific/Auckland:20171106T183000
LOCATION:Nigel Tate Financial Planning Ltd @ 3\, Thackeray St\, Hamilton
SEQUENCE:0
SUMMARY:Council agenda setting meeting
URL:http://jpwaikato.org.nz/event/council-agenda-setting-meeting/
X-COST-TYPE:free
END:VEVENT
END:VCALENDAR
