BEGIN:VCALENDAR
VERSION:2.0
PRODID:-//112.109.81.141//NONSGML kigkonsult.se iCalcreator 2.20//
CALSCALE:GREGORIAN
METHOD:PUBLISH
X-WR-CALNAME:Waikato JP Association
X-WR-CALDESC:Home
X-FROM-URL:http://jpwaikato.org.nz
X-WR-TIMEZONE:Pacific/Auckland
BEGIN:VTIMEZONE
TZID:Pacific/Auckland
X-LIC-LOCATION:Pacific/Auckland
BEGIN:STANDARD
DTSTART:20190407T030000
TZOFFSETFROM:+1300
TZOFFSETTO:+1200
TZNAME:NZST
END:STANDARD
BEGIN:DAYLIGHT
DTSTART:20180930T020000
TZOFFSETFROM:+1200
TZOFFSETTO:+1300
TZNAME:NZDT
END:DAYLIGHT
END:VTIMEZONE
BEGIN:VEVENT
UID:ai1ec-2102@jpwaikato.org.nz
DTSTAMP:20181220T045932Z
CATEGORIES:
CONTACT:
DESCRIPTION:
DTSTART;TZID=Pacific/Auckland:20190409T170000
DTEND;TZID=Pacific/Auckland:20190409T183000
LOCATION:3 Thackeray St\, Hamilton
SEQUENCE:0
SUMMARY:Agenda setting
URL:http://jpwaikato.org.nz/event/agenda-setting-2/
X-COST-TYPE:free
X-ALT-DESC;FMTTYPE=text/html:<!DOCTYPE HTML PUBLIC '-//W3C//DTD HTML 3.2//E
 N'>\\n<HTML>\\n<HEAD>\\n<TITLE></TITLE>\\n</HEAD>\\n<BODY><div id='et-boc'
  class='et-boc'>\n			\n			<div class='et_builder_inner_content et_pb_gutters3'>
 \n				\n			</div>\n			\n		</div></BODY></HTML>
END:VEVENT
END:VCALENDAR
